BEGIN:VCALENDAR
VERSION:2.0
PRODID:-//eventon.com NONSGML v1.0//EN
CALSCALE:GREGORIAN
METHOD:PUBLISH
BEGIN:VEVENT
UID:69e4fac285a98
DTSTAMP:20260419T155442Z
DTSTART:20230902T100000Z
DTEND:20230902T215000Z
LOCATION:
SUMMARY:Kirmeswanderung
DESCRIPTION:ab 12:00 Uhr Start am Klubhaus\nhttps://kirmesverein-berga.de/e
 vents/veranstaltung-2/
URL:https://kirmesverein-berga.de/events/veranstaltung-2/
END:VEVENT
END:VCALENDAR